BEGIN:VCALENDAR
VERSION:2.0
PRODID:-//Plone.org//NONSGML plone.app.event//EN
X-WR-TIMEZONE:Europe/Brussels
BEGIN:VEVENT
SUMMARY:Classiques du marché - zondag 24 mei
DTSTART;TZID=Europe/Brussels;VALUE=DATE-TIME:20260524T113000
DTEND;TZID=Europe/Brussels;VALUE=DATE-TIME:20260524T123000
DTSTAMP;VALUE=DATE-TIME:20260420T040830Z
UID:a8e2824bebeb43458dd1583a58e23629@acwb.plone.brussels
CONTACT:La Vénerie\, 02.663.85.50
CREATED;VALUE=DATE-TIME:20221005T102116Z
LAST-MODIFIED;VALUE=DATE-TIME:20260417T055623Z
LOCATION:Hooghuis - 2 Antoine Gilsonplein
URL:https://watermaal-bosvoorde.be/nl/dagboek/classiques-du-marche
END:VEVENT
BEGIN:VTIMEZONE
TZID:Europe/Brussels
X-LIC-LOCATION:Europe/Brussels
BEGIN:DAYLIGHT
DTSTART;VALUE=DATE-TIME:20260329T030000
TZNAME:CEST
TZOFFSETFROM:+0100
TZOFFSETTO:+0200
END:DAYLIGHT
END:VTIMEZONE
END:VCALENDAR
