BEGIN:VCALENDAR
VERSION:2.0
PRODID:-//Plone.org//NONSGML plone.app.event//EN
X-WR-TIMEZONE:Europe/Brussels
BEGIN:VEVENT
SUMMARY:Inzameling Proxy Chimik - donderdag 11 juni
DTSTART;VALUE=DATE:20260611
DTEND;VALUE=DATE:20260612
DTSTAMP;VALUE=DATE-TIME:20260421T103324Z
UID:091d801c1d7846a9af72840a1a19ae51@acwb.plone.brussels
RRULE:FREQ=MONTHLY;UNTIL=20261210T000000;BYDAY=+2TH
EXDATE;TZID=Europe/Brussels:20250410T000000,20250508T000000,20250612T00000
 0,20250710T000000,20250814T000000,20250911T000000,20260212T000000,20260514
 T000000
CREATED;VALUE=DATE-TIME:20210111T161252Z
LAST-MODIFIED;VALUE=DATE-TIME:20260416T093732Z
URL:https://watermaal-bosvoorde.be/nl/leven-te-watermaal-bosvoorde/netheid
 /stortplaats/chemisch-afval/inzameling
END:VEVENT
END:VCALENDAR
