BEGIN:VCALENDAR
VERSION:2.0
PRODID:-//Plone.org//NONSGML plone.app.event//EN
X-WR-TIMEZONE:Europe/Brussels
BEGIN:VEVENT
SUMMARY:Transitieruimte - dinsdag 12 mei
DTSTART;TZID=Europe/Brussels;VALUE=DATE-TIME:20260512T180000
DTEND;TZID=Europe/Brussels;VALUE=DATE-TIME:20260512T200000
DTSTAMP;VALUE=DATE-TIME:20260421T103007Z
UID:f440bce0bd3d4d9d97f36d2164705547@acwb.plone.brussels
CREATED;VALUE=DATE-TIME:20250825T081024Z
LAST-MODIFIED;VALUE=DATE-TIME:20260331T053512Z
URL:https://watermaal-bosvoorde.be/nl/leven-te-watermaal-bosvoorde/transit
 ie/ruimte
END:VEVENT
BEGIN:VTIMEZONE
TZID:Europe/Brussels
X-LIC-LOCATION:Europe/Brussels
BEGIN:DAYLIGHT
DTSTART;VALUE=DATE-TIME:20260329T030000
TZNAME:CEST
TZOFFSETFROM:+0100
TZOFFSETTO:+0200
END:DAYLIGHT
END:VTIMEZONE
END:VCALENDAR
